Workbook

Sheet STB-1245-ALL-CARRIERS-2025
A1: report_line_number | B1: agency_name_abbreviation | C1: omb_control_number | D1: report_office_owner | E1: report_name_full | F1: report_name_abbreviation | G1: report_collection_frequency_requirement | H1: measure_name | I1: sub_measure | J1: measure_name_analytics | K1: measure_confidentiality | L1: measure_scale | M1: measure_units | N1: measure_data_type | O1: railroad_aar_reporting_mark | P1: railroad_name | Q1: report_year | R1: report_quarter | S1: report_amended_boolean | T1: fact_value
A2: 1 | B2: STB | C2: 2140-0004 | D2: OE | E2: Report of Railroad Employees, Service, and Compensation | F2: railroad_employees_service_compensation | G2: quarterly | H2: Average number of employees | I2: L100-Executives, Officials, and Staff Assistants | J2: employees | K2: Public | L2: 1 | M2: person | N2: decimal(18,0) | O2: AMTK | P2: National Railroad Passenger Corporation | Q2: 2025 | R2: 1 | S2: TRUE | T2: 1670
A3: 2 | B3: STB | C3: 2140-0004 | D3: OE | E3: Report of Railroad Employees, Service, and Compensation | F3: railroad_employees_service_compensation | G3: quarterly | H3: Average number of employees | I3: L200-Professional and Administrative | J3: employees | K3: Public | L3: 1 | M3: person | N3: decimal(18,0) | O3: AMTK | P3: National Railroad Passenger Corporation | Q3: 2025 | R3: 1 | S3: TRUE | T3: 5146
A4: 3 | B4: STB | C4: 2140-0004 | D4: OE | E4: Report of Railroad Employees, Service, and Compensation | F4: railroad_employees_service_compensation | G4: quarterly | H4: Average number of employees | I4: L300-Maintenance of Way and Structures | J4: employees | K4: Public | L4: 1 | M4: person | N4: decimal(18,0) | O4: AMTK | P4: National Railroad Passenger Corporation | Q4: 2025 | R4: 1 | S4: TRUE | T4: 4762
A5: 4 | B5: STB | C5: 2140-0004 | D5: OE | E5: Report of Railroad Employees, Service, and Compensation | F5: railroad_employees_service_compensation | G5: quarterly | H5: Average number of employees | I5: L400-Maintenance of Equipment and Stores | J5: employees | K5: Public | L5: 1 | M5: person | N5: decimal(18,0) | O5: AMTK | P5: National Railroad Passenger Corporation | Q5: 2025 | R5: 1 | S5: TRUE | T5: 4704
A6: 5 | B6: STB | C6: 2140-0004 | D6: OE | E6: Report of Railroad Employees, Service, and Compensation | F6: railroad_employees_service_compensation | G6: quarterly | H6: Average number of employees | I6: L500-Transportation (Other than Train and Engine) | J6: employees | K6: Public | L6: 1 | M6: person | N6: decimal(18,0) | O6: AMTK | P6: National Railroad Passenger Corporation | Q6: 2025 | R6: 1 | S6: TRUE | T6: 2552
A7: 6 | B7: STB | C7: 2140-0004 | D7: OE | E7: Report of Railroad Employees, Service, and Compensation | F7: railroad_employees_service_compensation | G7: quarterly | H7: Average number of employees | I7: L600-Transportation (Train and Engine) | J7: employees | K7: Public | L7: 1 | M7: person | N7: decimal(18,0) | O7: AMTK | P7: National Railroad Passenger Corporation | Q7: 2025 | R7: 1 | S7: TRUE | T7: 3539
A8: 7 | B8: STB | C8: 2140-0004 | D8: OE | E8: Report of Railroad Employees, Service, and Compensation | F8: railroad_employees_service_compensation | G8: quarterly | H8: Average number of employees who received pay during period | I8: L100-Executives, Officials, and Staff Assistants | J8: employees_receiving_pay | K8: Public | L8: 1 | M8: person | N8: decimal(18,0) | O8: AMTK | P8: National Railroad Passenger Corporation | Q8: 2025 | R8: 1 | S8: TRUE | T8: 1726
A9: 8 | B9: STB | C9: 2140-0004 | D9: OE | E9: Report of Railroad Employees, Service, and Compensation | F9: railroad_employees_service_compensation | G9: quarterly | H9: Average number of employees who received pay during period | I9: L200-Professional and Administrative | J9: employees_receiving_pay | K9: Public | L9: 1 | M9: person | N9: decimal(18,0) | O9: AMTK | P9: National Railroad Passenger Corporation | Q9: 2025 | R9: 1 | S9: TRUE | T9: 5314
A10: 9 | B10: STB | C10: 2140-0004 | D10: OE | E10: Report of Railroad Employees, Service, and Compensation | F10: railroad_employees_service_compensation | G10: quarterly | H10: Average number of employees who received pay during period | I10: L300-Maintenance of Way and Structures | J10: employees_receiving_pay | K10: Public | L10: 1 | M10: person | N10: decimal(18,0) | O10: AMTK | P10: National Railroad Passenger Corporation | Q10: 2025 | R10: 1 | S10: TRUE | T10: 4903
A11: 10 | B11: STB | C11: 2140-0004 | D11: OE | E11: Report of Railroad Employees, Service, and Compensation | F11: railroad_employees_service_compensation | G11: quarterly | H11: Average number of employees who received pay during period | I11: L400-Maintenance of Equipment and Stores | J11: employees_receiving_pay | K11: Public | L11: 1 | M11: person | N11: decimal(18,0) | O11: AMTK | P11: National Railroad Passenger Corporation | Q11: 2025 | R11: 1 | S11: TRUE | T11: 4933
A12: 11 | B12: STB | C12: 2140-0004 | D12: OE | E12: Report of Railroad Employees, Service, and Compensation | F12: railroad_employees_service_compensation | G12: quarterly | H12: Average number of employees who received pay during period | I12: L500-Transportation (Other than Train and Engine) | J12: employees_receiving_pay | K12: Public | L12: 1 | M12: person | N12: decimal(18,0) | O12: AMTK | P12: National Railroad Passenger Corporation | Q12: 2025 | R12: 1 | S12: TRUE | T12: 2680
A13: 12 | B13: STB | C13: 2140-0004 | D13: OE | E13: Report of Railroad Employees, Service, and Compensation | F13: railroad_employees_service_compensation | G13: quarterly | H13: Average number of employees who received pay during period | I13: L600-Transportation (Train and Engine) | J13: employees_receiving_pay | K13: Public | L13: 1 | M13: person | N13: decimal(18,0) | O13: AMTK | P13: National Railroad Passenger Corporation | Q13: 2025 | R13: 1 | S13: TRUE | T13: 3661
... A1781: 65 | B1781: STB | C1781: 2140-0004 | D1781: OE | E1781: Report of Railroad Employees, Service, and Compensation | F1781: railroad_employees_service_compensation | G1781: quarterly | H1781: Total number of trips for which not less than a minimum day was paid | I1781: L600-Transportation (Train and Engine) | J1781: trips_at_least_a_minimum_day | K1781: Public | L1781: 1 | M1781: trips | N1781: integer | O1781: UP | P1781: Union Pacific Railroad | Q1781: 2025 | R1781: 4 | S1781: FALSE | T1781: 529326

Sheet Annual Totals
A1: report_line_number | B1: agency_name_abbreviation | C1: omb_control_number | D1: report_office_owner | E1: report_name_full | F1: report_name_abbreviation | G1: report_collection_frequency_requirement | H1: measure_name | I1: sub_measure | J1: measure_name_analytics | K1: measure_confidentiality | L1: measure_scale | M1: measure_units | N1: measure_data_type | O1: railroad_aar_reporting_mark | P1: railroad_name | Q1: report_year | R1: employee_group_no | S1: fact_value
A2: 1 | B2: STB | C2: 2140-0004 | D2: OE | E2: Report of Railroad Employees, Service, and Compensation | F2: railroad_employees_service_compensation | G2: quarterly | H2: Average number of employees | I2: L100-Executives, Officials, and Staff Assistants | J2: employees | K2: Public | L2: 1 | M2: person | N2: decimal(18,0) | O2: AMTK | P2: National Railroad Passenger Corporation | Q2: 2025 | R2: =MID(I2,2,3) -> 100 | S2: =IF(LEFT(H2,7)="Average",AVERAGEIFS('STB-1245-ALL-CARRIERS-2025'!T:T,'STB-1245-ALL-CARRIERS-2025'!H:H,'Annual Totals'!H2,'STB-1245-ALL-CARRIERS-2025'!I:I,'Annual Totals'!I2,'STB-1245-ALL-CARRIERS-2025'!O:O,'Annual Totals'!O2),SUMIFS('STB-1245-ALL-CARRIERS-2025'!T:T,'STB-1245-ALL-CARRIERS-2025'!H:H,'Annual Totals'!H2,'STB-1245-ALL-CARRIERS-2025'!I:I,'Annual Totals'!I2,'STB-1245-ALL-CARRIERS-2025'!O:O,'Annual Totals'!O2)) -> 1606.5
A3: 2 | B3: STB | C3: 2140-0004 | D3: OE | E3: Report of Railroad Employees, Service, and Compensation | F3: railroad_employees_service_compensation | G3: quarterly | H3: Average number of employees | I3: L200-Professional and Administrative | J3: employees | K3: Public | L3: 1 | M3: person | N3: decimal(18,0) | O3: AMTK | P3: National Railroad Passenger Corporation | Q3: 2025 | R3: =MID(I3,2,3) -> 200 | S3: =IF(LEFT(H3,7)="Average",AVERAGEIFS('STB-1245-ALL-CARRIERS-2025'!T:T,'STB-1245-ALL-CARRIERS-2025'!H:H,'Annual Totals'!H3,'STB-1245-ALL-CARRIERS-2025'!I:I,'Annual Totals'!I3,'STB-1245-ALL-CARRIERS-2025'!O:O,'Annual Totals'!O3),SUMIFS('STB-1245-ALL-CARRIERS-2025'!T:T,'STB-1245-ALL-CARRIERS-2025'!H:H,'Annual Totals'!H3,'STB-1245-ALL-CARRIERS-2025'!I:I,'Annual Totals'!I3,'STB-1245-ALL-CARRIERS-2025'!O:O,'Annual Totals'!O3)) -> 4963.75
A4: 3 | B4: STB | C4: 2140-0004 | D4: OE | E4: Report of Railroad Employees, Service, and Compensation | F4: railroad_employees_service_compensation | G4: quarterly | H4: Average number of employees | I4: L300-Maintenance of Way and Structures | J4: employees | K4: Public | L4: 1 | M4: person | N4: decimal(18,0) | O4: AMTK | P4: National Railroad Passenger Corporation | Q4: 2025 | R4: =MID(I4,2,3) -> 300 | S4: =IF(LEFT(H4,7)="Average",AVERAGEIFS('STB-1245-ALL-CARRIERS-2025'!T:T,'STB-1245-ALL-CARRIERS-2025'!H:H,'Annual Totals'!H4,'STB-1245-ALL-CARRIERS-2025'!I:I,'Annual Totals'!I4,'STB-1245-ALL-CARRIERS-2025'!O:O,'Annual Totals'!O4),SUMIFS('STB-1245-ALL-CARRIERS-2025'!T:T,'STB-1245-ALL-CARRIERS-2025'!H:H,'Annual Totals'!H4,'STB-1245-ALL-CARRIERS-2025'!I:I,'Annual Totals'!I4,'STB-1245-ALL-CARRIERS-2025'!O:O,'Annual Totals'!O4)) -> 4733.25
A5: 4 | B5: STB | C5: 2140-0004 | D5: OE | E5: Report of Railroad Employees, Service, and Compensation | F5: railroad_employees_service_compensation | G5: quarterly | H5: Average number of employees | I5: L400-Maintenance of Equipment and Stores | J5: employees | K5: Public | L5: 1 | M5: person | N5: decimal(18,0) | O5: AMTK | P5: National Railroad Passenger Corporation | Q5: 2025 | R5: =MID(I5,2,3) -> 400 | S5: =IF(LEFT(H5,7)="Average",AVERAGEIFS('STB-1245-ALL-CARRIERS-2025'!T:T,'STB-1245-ALL-CARRIERS-2025'!H:H,'Annual Totals'!H5,'STB-1245-ALL-CARRIERS-2025'!I:I,'Annual Totals'!I5,'STB-1245-ALL-CARRIERS-2025'!O:O,'Annual Totals'!O5),SUMIFS('STB-1245-ALL-CARRIERS-2025'!T:T,'STB-1245-ALL-CARRIERS-2025'!H:H,'Annual Totals'!H5,'STB-1245-ALL-CARRIERS-2025'!I:I,'Annual Totals'!I5,'STB-1245-ALL-CARRIERS-2025'!O:O,'Annual Totals'!O5)) -> 4654.75
A6: 5 | B6: STB | C6: 2140-0004 | D6: OE | E6: Report of Railroad Employees, Service, and Compensation | F6: railroad_employees_service_compensation | G6: quarterly | H6: Average number of employees | I6: L500-Transportation (Other than Train and Engine) | J6: employees | K6: Public | L6: 1 | M6: person | N6: decimal(18,0) | O6: AMTK | P6: National Railroad Passenger Corporation | Q6: 2025 | R6: =MID(I6,2,3) -> 500 | S6: =IF(LEFT(H6,7)="Average",AVERAGEIFS('STB-1245-ALL-CARRIERS-2025'!T:T,'STB-1245-ALL-CARRIERS-2025'!H:H,'Annual Totals'!H6,'STB-1245-ALL-CARRIERS-2025'!I:I,'Annual Totals'!I6,'STB-1245-ALL-CARRIERS-2025'!O:O,'Annual Totals'!O6),SUMIFS('STB-1245-ALL-CARRIERS-2025'!T:T,'STB-1245-ALL-CARRIERS-2025'!H:H,'Annual Totals'!H6,'STB-1245-ALL-CARRIERS-2025'!I:I,'Annual Totals'!I6,'STB-1245-ALL-CARRIERS-2025'!O:O,'Annual Totals'!O6)) -> 2572.5
A7: 6 | B7: STB | C7: 2140-0004 | D7: OE | E7: Report of Railroad Employees, Service, and Compensation | F7: railroad_employees_service_compensation | G7: quarterly | H7: Average number of employees | I7: L600-Transportation (Train and Engine) | J7: employees | K7: Public | L7: 1 | M7: person | N7: decimal(18,0) | O7: AMTK | P7: National Railroad Passenger Corporation | Q7: 2025 | R7: =MID(I7,2,3) -> 600 | S7: =IF(LEFT(H7,7)="Average",AVERAGEIFS('STB-1245-ALL-CARRIERS-2025'!T:T,'STB-1245-ALL-CARRIERS-2025'!H:H,'Annual Totals'!H7,'STB-1245-ALL-CARRIERS-2025'!I:I,'Annual Totals'!I7,'STB-1245-ALL-CARRIERS-2025'!O:O,'Annual Totals'!O7),SUMIFS('STB-1245-ALL-CARRIERS-2025'!T:T,'STB-1245-ALL-CARRIERS-2025'!H:H,'Annual Totals'!H7,'STB-1245-ALL-CARRIERS-2025'!I:I,'Annual Totals'!I7,'STB-1245-ALL-CARRIERS-2025'!O:O,'Annual Totals'!O7)) -> 3492.25
A8: 7 | B8: STB | C8: 2140-0004 | D8: OE | E8: Report of Railroad Employees, Service, and Compensation | F8: railroad_employees_service_compensation | G8: quarterly | H8: Average number of employees who received pay during period | I8: L100-Executives, Officials, and Staff Assistants | J8: employees_receiving_pay | K8: Public | L8: 1 | M8: person | N8: decimal(18,0) | O8: AMTK | P8: National Railroad Passenger Corporation | Q8: 2025 | R8: =MID(I8,2,3) -> 100 | S8: =IF(LEFT(H8,7)="Average",AVERAGEIFS('STB-1245-ALL-CARRIERS-2025'!T:T,'STB-1245-ALL-CARRIERS-2025'!H:H,'Annual Totals'!H8,'STB-1245-ALL-CARRIERS-2025'!I:I,'Annual Totals'!I8,'STB-1245-ALL-CARRIERS-2025'!O:O,'Annual Totals'!O8),SUMIFS('STB-1245-ALL-CARRIERS-2025'!T:T,'STB-1245-ALL-CARRIERS-2025'!H:H,'Annual Totals'!H8,'STB-1245-ALL-CARRIERS-2025'!I:I,'Annual Totals'!I8,'STB-1245-ALL-CARRIERS-2025'!O:O,'Annual Totals'!O8)) -> 1662.25
A9: 8 | B9: STB | C9: 2140-0004 | D9: OE | E9: Report of Railroad Employees, Service, and Compensation | F9: railroad_employees_service_compensation | G9: quarterly | H9: Average number of employees who received pay during period | I9: L200-Professional and Administrative | J9: employees_receiving_pay | K9: Public | L9: 1 | M9: person | N9: decimal(18,0) | O9: AMTK | P9: National Railroad Passenger Corporation | Q9: 2025 | R9: =MID(I9,2,3) -> 200 | S9: =IF(LEFT(H9,7)="Average",AVERAGEIFS('STB-1245-ALL-CARRIERS-2025'!T:T,'STB-1245-ALL-CARRIERS-2025'!H:H,'Annual Totals'!H9,'STB-1245-ALL-CARRIERS-2025'!I:I,'Annual Totals'!I9,'STB-1245-ALL-CARRIERS-2025'!O:O,'Annual Totals'!O9),SUMIFS('STB-1245-ALL-CARRIERS-2025'!T:T,'STB-1245-ALL-CARRIERS-2025'!H:H,'Annual Totals'!H9,'STB-1245-ALL-CARRIERS-2025'!I:I,'Annual Totals'!I9,'STB-1245-ALL-CARRIERS-2025'!O:O,'Annual Totals'!O9)) -> 5135.5
A10: 9 | B10: STB | C10: 2140-0004 | D10: OE | E10: Report of Railroad Employees, Service, and Compensation | F10: railroad_employees_service_compensation | G10: quarterly | H10: Average number of employees who received pay during period | I10: L300-Maintenance of Way and Structures | J10: employees_receiving_pay | K10: Public | L10: 1 | M10: person | N10: decimal(18,0) | O10: AMTK | P10: National Railroad Passenger Corporation | Q10: 2025 | R10: =MID(I10,2,3) -> 300 | S10: =IF(LEFT(H10,7)="Average",AVERAGEIFS('STB-1245-ALL-CARRIERS-2025'!T:T,'STB-1245-ALL-CARRIERS-2025'!H:H,'Annual Totals'!H10,'STB-1245-ALL-CARRIERS-2025'!I:I,'Annual Totals'!I10,'STB-1245-ALL-CARRIERS-2025'!O:O,'Annual Totals'!O10),SUMIFS('STB-1245-ALL-CARRIERS-2025'!T:T,'STB-1245-ALL-CARRIERS-2025'!H:H,'Annual Totals'!H10,'STB-1245-ALL-CARRIERS-2025'!I:I,'Annual Totals'!I10,'STB-1245-ALL-CARRIERS-2025'!O:O,'Annual Totals'!O10)) -> 4909.5
A11: 10 | B11: STB | C11: 2140-0004 | D11: OE | E11: Report of Railroad Employees, Service, and Compensation | F11: railroad_employees_service_compensation | G11: quarterly | H11: Average number of employees who received pay during period | I11: L400-Maintenance of Equipment and Stores | J11: employees_receiving_pay | K11: Public | L11: 1 | M11: person | N11: decimal(18,0) | O11: AMTK | P11: National Railroad Passenger Corporation | Q11: 2025 | R11: =MID(I11,2,3) -> 400 | S11: =IF(LEFT(H11,7)="Average",AVERAGEIFS('STB-1245-ALL-CARRIERS-2025'!T:T,'STB-1245-ALL-CARRIERS-2025'!H:H,'Annual Totals'!H11,'STB-1245-ALL-CARRIERS-2025'!I:I,'Annual Totals'!I11,'STB-1245-ALL-CARRIERS-2025'!O:O,'Annual Totals'!O11),SUMIFS('STB-1245-ALL-CARRIERS-2025'!T:T,'STB-1245-ALL-CARRIERS-2025'!H:H,'Annual Totals'!H11,'STB-1245-ALL-CARRIERS-2025'!I:I,'Annual Totals'!I11,'STB-1245-ALL-CARRIERS-2025'!O:O,'Annual Totals'!O11)) -> 4852
A12: 11 | B12: STB | C12: 2140-0004 | D12: OE | E12: Report of Railroad Employees, Service, and Compensation | F12: railroad_employees_service_compensation | G12: quarterly | H12: Average number of employees who received pay during period | I12: L500-Transportation (Other than Train and Engine) | J12: employees_receiving_pay | K12: Public | L12: 1 | M12: person | N12: decimal(18,0) | O12: AMTK | P12: National Railroad Passenger Corporation | Q12: 2025 | R12: =MID(I12,2,3) -> 500 | S12: =IF(LEFT(H12,7)="Average",AVERAGEIFS('STB-1245-ALL-CARRIERS-2025'!T:T,'STB-1245-ALL-CARRIERS-2025'!H:H,'Annual Totals'!H12,'STB-1245-ALL-CARRIERS-2025'!I:I,'Annual Totals'!I12,'STB-1245-ALL-CARRIERS-2025'!O:O,'Annual Totals'!O12),SUMIFS('STB-1245-ALL-CARRIERS-2025'!T:T,'STB-1245-ALL-CARRIERS-2025'!H:H,'Annual Totals'!H12,'STB-1245-ALL-CARRIERS-2025'!I:I,'Annual Totals'!I12,'STB-1245-ALL-CARRIERS-2025'!O:O,'Annual Totals'!O12)) -> 2690.75
A13: 12 | B13: STB | C13: 2140-0004 | D13: OE | E13: Report of Railroad Employees, Service, and Compensation | F13: railroad_employees_service_compensation | G13: quarterly | H13: Average number of employees who received pay during period | I13: L600-Transportation (Train and Engine) | J13: employees_receiving_pay | K13: Public | L13: 1 | M13: person | N13: decimal(18,0) | O13: AMTK | P13: National Railroad Passenger Corporation | Q13: 2025 | R13: =MID(I13,2,3) -> 600 | S13: =IF(LEFT(H13,7)="Average",AVERAGEIFS('STB-1245-ALL-CARRIERS-2025'!T:T,'STB-1245-ALL-CARRIERS-2025'!H:H,'Annual Totals'!H13,'STB-1245-ALL-CARRIERS-2025'!I:I,'Annual Totals'!I13,'STB-1245-ALL-CARRIERS-2025'!O:O,'Annual Totals'!O13),SUMIFS('STB-1245-ALL-CARRIERS-2025'!T:T,'STB-1245-ALL-CARRIERS-2025'!H:H,'Annual Totals'!H13,'STB-1245-ALL-CARRIERS-2025'!I:I,'Annual Totals'!I13,'STB-1245-ALL-CARRIERS-2025'!O:O,'Annual Totals'!O13)) -> 3650.5
... A446: 65 | B446: STB | C446: 2140-0004 | D446: OE | E446: Report of Railroad Employees, Service, and Compensation | F446: railroad_employees_service_compensation | G446: quarterly | H446: Total number of trips for which not less than a minimum day was paid | I446: L600-Transportation (Train and Engine) | J446: trips_at_least_a_minimum_day | K446: Public | L446: 1 | M446: trips | N446: integer | O446: UP | P446: Union Pacific Railroad | Q446: 2025 | R446: =MID(I446,2,3) -> 600 | S446: =IF(LEFT(H446,7)="Average",AVERAGEIFS('STB-1245-ALL-CARRIERS-2025'!T:T,'STB-1245-ALL-CARRIERS-2025'!H:H,'Annual Totals'!H446,'STB-1245-ALL-CARRIERS-2025'!I:I,'Annual Totals'!I446,'STB-1245-ALL-CARRIERS-2025'!O:O,'Annual Totals'!O446),SUMIFS('STB-1245-ALL-CARRIERS-2025'!T:T,'STB-1245-ALL-CARRIERS-2025'!H:H,'Annual Totals'!H446,'STB-1245-ALL-CARRIERS-2025'!I:I,'Annual Totals'!I446,'STB-1245-ALL-CARRIERS-2025'!O:O,'Annual Totals'!O446)) -> 2235778

Sheet Compilation
A1: Page 1 of 13 | I1: Statement No. A-300
I2: ="Year "&MAX('Annual Totals'!Q:Q) -> Year 2025
A3: SURFACE TRANSPORTATION BOARD
A4: OFFICE OF ECONOMICS
A5: WAGE STATISTICS OF CLASS I RAILROADS IN THE UNITED STATES
C7: Number of Employees | F7: Service Hours
C9: Middle | D9: Percent | E9: No. Paid | F9: Straight | G9: Overtime
C10: of | D10: of | E10: During | F10: Time | G10: Paid | H10: Other
A11: Group | B11: Reporting Group | C11: Month | D11: Total | E11: Month | F11: Paid For (1) | G11: For (2) | H11: Allowances | I11: TOTAL
A12: No. | C12: (A) | D12: (B) | E12: (C) | F12: (D) | G12: (E) | H12: (F) | I12: (G)
A14: 100 | B14: Executives, Officials, & Staff Assistants | C14: =C151 -> 8054.5 | D14: =C14/$C$20 -> 0.068031032 | E14: =D151 -> 8005.5 | F14: =E151 -> 17345659 | G14: =F151 -> 507 | H14: =G151 -> 701109 | I14: =H151 -> 18047275
A15: 200 | B15: Professional & Administrative | C15: =C152 -> 9309.75 | D15: =C15/$C$20 -> 0.078633298 | E15: =D152 -> 9504 | F15: =E152 -> 19159249 | G15: =F152 -> 621069 | H15: =G152 -> 1187518 | I15: =H152 -> 20967836
A16: 300 | B16: Maintenance of Way & Structures | C16: =C153 -> 28810.25 | D16: =C16/$C$20 -> 0.24334112 | E16: =D153 -> 29124.75 | F16: =E153 -> 52657405 | G16: =F153 -> 7927793 | H16: =G153 -> 9628265 | I16: =H153 -> 70213463
A17: 400 | B17: Maintenance of Equipment & Stores | C17: =C154 -> 16790 | D17: =C17/$C$20 -> 0.14181402 | E17: =D154 -> 17048 | F17: =E154 -> 30840856 | G17: =F154 -> 3018004 | H17: =G154 -> 5016841 | I17: =H154 -> 38875701
A18: 500 | B18: Transportation (Other than Train & Engine) | C18: =C155 -> 4929.25 | D18: =C18/$C$20 -> 0.041634113 | E18: =D155 -> 4985.75 | F18: =E155 -> 9016313 | G18: =F155 -> 713178 | H18: =G155 -> 2095092 | I18: =H155 -> 11824583
A19: 600 | B19: Transportation (Train & Engine) | C19: =C225 -> 50500.75 | D19: =C19/$C$20 -> 0.42654642 | E19: =D225 -> 51625.25 | F19: =F225 -> 90727437 | G19: =G225 -> 8103119 | H19: =H225 -> 24864319 | I19: =SUM(F19:H19) -> 123694875
A20: 700 | B20: TOTAL ALL GROUPS | C20: =SUM(C14:C19) -> 118394.5 | D20: =SUM(D14:D19) -> 1 | E20: =SUM(E14:E19) -> 120293.25 | F20: =SUM(F14:F19) -> 219746919 | G20: =SUM(G14:G19) -> 20383670 | H20: =SUM(H14:H19) -> 43493144 | I20: =SUM(I14:I19) -> 283623733
B22: (1) Includes "Straight Time Paid For" in train and engine service and "Time Actually Worked and Paid At Straight Time Rates" in other services.
B24: (2) Includes all "Overtime" in train and engine service and "Overtime Paid For At Punitive Rates" in other services.
A26: Source: Annual Wage Forms A and B submitted by Class I Railroads.
A27: These reports have not been verified by the Surface Transportation Board.
A29: Page 2 of 13 | I29: Statement No. B-300
I30: =+I2 -> Year 2025
A31: SURFACE TRANSPORTATION BOARD
A32: OFFICE OF ECONOMICS
A33: WAGE STATISTICS OF CLASS I RAILROADS IN THE UNITED STATES
B35: Compensation
C37: Percent | D37: Average | F37: Percent
B38: Straight | C38: Of | D38: Straight | E38: Overtime | F38: Of | G38: Average | H38: Other | I38: TOTAL
A39: Group | B39: Time | C39: Total | D39: Time | E39: Paid | F39: Total | G39: Overtime | H39: Compen- | I39: COMPEN-
A40: No. | B40: Paid For (1) | C40: Compensation | D40: Rates | E40: For (2) | F40: Compensation | G40: Rates | H40: sation | I40: SATION
B41: (000) | E41: (000) | H41: (000) | I41: (000)
B42: (H) | C42: (I) | D42: (J) | E42: (K) | F42: (L) | G42: (M) | H42: (N) | I42: (O)
A44: 100 | B44: =+C328 -> 1259245.8 | C44: =B44/I44 -> 0.96143517 | D44: =+B44*1000/F14 -> 72.59717 | E44: =+D328 -> 19.834 | F44: =E44/I44 -> 1.5143275e-05 | G44: =+E44*1000/G14 -> 39.120316 | H44: =+E328 -> 50490.7 | I44: =B44+E44+H44 -> 1309756.3
A45: 200 | B45: =+C329 -> 1034562.9 | C45: =B45/I45 -> 0.91585889 | D45: =+B45*1000/F15 -> 53.998091 | E45: =+D329 -> 35139.149 | F45: =E45/I45 -> 0.031107343 | G45: =+E45*1000/G15 -> 56.578494 | H45: =+E329 -> 59907.44 | I45: =B45+E45+H45 -> 1129609.5
A46: 300 | B46: =+C330 -> 2234144.9 | C46: =B46/I46 -> 0.69646319 | D46: =+B46*1000/F16 -> 42.427934 | E46: =+D330 -> 491257.06 | F46: =E46/I46 -> 0.15314247 | G46: =+E46*1000/G16 -> 61.966433 | H46: =+E330 -> 482441.51 | I46: =B46+E46+H46 -> 3207843.5
A47: 400 | B47: =+C331 -> 1306418.4 | C47: =B47/I47 -> 0.76870253 | D47: =+B47*1000/F17 -> 42.359993 | E47: =+D331 -> 188423.28 | F47: =E47/I47 -> 0.11086911 | G47: =+E47*1000/G17 -> 62.433078 | H47: =+E331 -> 204669.33 | I47: =B47+E47+H47 -> 1699511
A48: 500 | B48: =+C332 -> 430896.45 | C48: =B48/I48 -> 0.74677562 | D48: =+B48*1000/F18 -> 47.79076 | E48: =+D332 -> 44385.658 | F48: =E48/I48 -> 0.076923648 | G48: =+E48*1000/G18 -> 62.236437 | H48: =+E332 -> 101727.16 | I48: =B48+E48+H48 -> 577009.27
A49: 600 | B49: =+C404 -> 3948153.1 | C49: =B49/I49 -> 0.63285334 | D49: =+B49*1000/F19 -> 43.516639 | E49: =+D404 -> 504375.26 | F49: =E49/I49 -> 0.080846805 | G49: =+E49*1000/G19 -> 62.244583 | H49: =+E404 -> 1786125.8 | I49: =B49+E49+H49 -> 6238654.2
A50: 700 | B50: =SUM(B44:B49) -> 10213422 | C50: =B50/I50 -> 0.72116543 | D50: =+B50*1000/F20 -> 46.47811 | E50: =SUM(E44:E49) -> 1263600.2 | F50: =E50/I50 -> 0.089222285 | G50: =+E50*1000/G20 -> 61.990811 | H50: =SUM(H44:H49) -> 2685362 | I50: =B50+E50+H50 -> 14162384
B52: (1) Includes "Straight Time Paid For" in train and engine service and "Time Actually Worked and Paid At Straight Time Rates" in other services.
B54: (2) Includes all "Overtime" in train and engine service and "Overtime Paid For At Punitive Rates" in other services.
A56: Source: Annual Wage Forms A and B submitted by Class I Railroads.
A57: These reports have not been verified by the Surface Transportation Board.
A59: Page 3 of 13
F60: ="Annual Wage Forms A and B - "&MAX('Annual Totals'!Q:Q) -> Annual Wage Forms A and B - 2025
A61: SURFACE TRANSPORTATION BOARD
A62: OFFICE OF ECONOMICS
A63: WAGE STATISTICS OF CLASS I RAILROADS IN THE UNITED STATES
E65: ---------------Service Hours---------------
D67: Av No. of | E67: Time worked | F67: Overtime | G67: Time paid | H67: Total
C68: Av No. of | D68: Employees | E68: and paid for | F68: paid for at | G68: for but | H68: time
A69: Group | B69: Reporting Group | C69: Employees | D69: Paid During | E69: straight | F69: punitive | G69: not | H69: paid
A70: No. | C70: Mid Month | D70: Month | E70: time rates | F70: rates | G70: worked | H70: for
A71: Burlington Northern - Santa Fe
A73: 100 | B73: Executives, Officials, & Staff Assistants | C73: =SUMIFS('Annual Totals'!$S:$S,'Annual Totals'!$R:$R,Compilation!$A73,'Annual Totals'!$H:$H,"Average number of employees",'Annual Totals'!$O:$O,"BNSF") -> 1437.75 | D73: =SUMIFS('Annual Totals'!$S:$S,'Annual Totals'!$R:$R,Compilation!$A73,'Annual Totals'!$H:$H,"Average number of employees who received pay during period",'Annual Totals'!$O:$O,"BNSF") -> 1441.5 | E73: =SUMIFS('Annual Totals'!$S:$S,'Annual Totals'!$R:$R,Compilation!$A73,'Annual Totals'!$H:$H,"Service hours: Straight time worked and paid for",'Annual Totals'!$O:$O,"BNSF") -> 3273679 | F73: =SUMIFS('Annual Totals'!$S:$S,'Annual Totals'!$R:$R,Compilation!$A73,'Annual Totals'!$H:$H,"Service hours: Overtime hours paid at punitive rates",'Annual Totals'!$O:$O,"BNSF") -> 0 | G73: =SUMIFS('Annual Totals'!$S:$S,'Annual Totals'!$R:$R,Compilation!$A73,'Annual Totals'!$H:$H,"Service hours: Hours paid but not worked",'Annual Totals'!$O:$O,"BNSF") -> 2376 | H73: =E73+F73+G73 -> 3276055
A74: 200 | B74: Professional & Administrative | C74: =SUMIFS('Annual Totals'!$S:$S,'Annual Totals'!$R:$R,Compilation!$A74,'Annual Totals'!$H:$H,"Average number of employees",'Annual Totals'!$O:$O,"BNSF") -> 3009.5 | D74: =SUMIFS('Annual Totals'!$S:$S,'Annual Totals'!$R:$R,Compilation!$A74,'Annual Totals'!$H:$H,"Average number of employees who received pay during period",'Annual Totals'!$O:$O,"BNSF") -> 3040.5 | E74: =SUMIFS('Annual Totals'!$S:$S,'Annual Totals'!$R:$R,Compilation!$A74,'Annual Totals'!$H:$H,"Service hours: Straight time worked and paid for",'Annual Totals'!$O:$O,"BNSF") -> 6304762 | F74: =SUMIFS('Annual Totals'!$S:$S,'Annual Totals'!$R:$R,Compilation!$A74,'Annual Totals'!$H:$H,"Service hours: Overtime hours paid at punitive rates",'Annual Totals'!$O:$O,"BNSF") -> 272604 | G74: =SUMIFS('Annual Totals'!$S:$S,'Annual Totals'!$R:$R,Compilation!$A74,'Annual Totals'!$H:$H,"Service hours: Hours paid but not worked",'Annual Totals'!$O:$O,"BNSF") -> 284598 | H74: =E74+F74+G74 -> 6861964
A75: 300 | B75: Maintenance of Way & Structures | C75: =SUMIFS('Annual Totals'!$S:$S,'Annual Totals'!$R:$R,Compilation!$A75,'Annual Totals'!$H:$H,"Average number of employees",'Annual Totals'!$O:$O,"BNSF") -> 8212.5 | D75: =SUMIFS('Annual Totals'!$S:$S,'Annual Totals'!$R:$R,Compilation!$A75,'Annual Totals'!$H:$H,"Average number of employees who received pay during period",'Annual Totals'!$O:$O,"BNSF") -> 8396.5 | E75: =SUMIFS('Annual Totals'!$S:$S,'Annual Totals'!$R:$R,Compilation!$A75,'Annual Totals'!$H:$H,"Service hours: Straight time worked and paid for",'Annual Totals'!$O:$O,"BNSF") -> 14931988 | F75: =SUMIFS('Annual Totals'!$S:$S,'Annual Totals'!$R:$R,Compilation!$A75,'Annual Totals'!$H:$H,"Service hours: Overtime hours paid at punitive rates",'Annual Totals'!$O:$O,"BNSF") -> 2761722 | G75: =SUMIFS('Annual Totals'!$S:$S,'Annual Totals'!$R:$R,Compilation!$A75,'Annual Totals'!$H:$H,"Service hours: Hours paid but not worked",'Annual Totals'!$O:$O,"BNSF") -> 2977555 | H75: =E75+F75+G75 -> 20671265
A76: 400 | B76: Maintenance of Equipment & Stores | C76: =SUMIFS('Annual Totals'!$S:$S,'Annual Totals'!$R:$R,Compilation!$A76,'Annual Totals'!$H:$H,"Average number of employees",'Annual Totals'!$O:$O,"BNSF") -> 5727.25 | D76: =SUMIFS('Annual Totals'!$S:$S,'Annual Totals'!$R:$R,Compilation!$A76,'Annual Totals'!$H:$H,"Average number of employees who received pay during period",'Annual Totals'!$O:$O,"BNSF") -> 5815.75 | E76: =SUMIFS('Annual Totals'!$S:$S,'Annual Totals'!$R:$R,Compilation!$A76,'Annual Totals'!$H:$H,"Service hours: Straight time worked and paid for",'Annual Totals'!$O:$O,"BNSF") -> 10733782 | F76: =SUMIFS('Annual Totals'!$S:$S,'Annual Totals'!$R:$R,Compilation!$A76,'Annual Totals'!$H:$H,"Service hours: Overtime hours paid at punitive rates",'Annual Totals'!$O:$O,"BNSF") -> 1067431 | G76: =SUMIFS('Annual Totals'!$S:$S,'Annual Totals'!$R:$R,Compilation!$A76,'Annual Totals'!$H:$H,"Service hours: Hours paid but not worked",'Annual Totals'!$O:$O,"BNSF") -> 1504757 | H76: =E76+F76+G76 -> 13305970
A77: 500 | B77: Transportation (Other than Train & Engine) | C77: =SUMIFS('Annual Totals'!$S:$S,'Annual Totals'!$R:$R,Compilation!$A77,'Annual Totals'!$H:$H,"Average number of employees",'Annual Totals'!$O:$O,"BNSF") -> 2074 | D77: =SUMIFS('Annual Totals'!$S:$S,'Annual Totals'!$R:$R,Compilation!$A77,'Annual Totals'!$H:$H,"Average number of employees who received pay during period",'Annual Totals'!$O:$O,"BNSF") -> 2104.75 | E77: =SUMIFS('Annual Totals'!$S:$S,'Annual Totals'!$R:$R,Compilation!$A77,'Annual Totals'!$H:$H,"Service hours: Straight time worked and paid for",'Annual Totals'!$O:$O,"BNSF") -> 3854679 | F77: =SUMIFS('Annual Totals'!$S:$S,'Annual Totals'!$R:$R,Compilation!$A77,'Annual Totals'!$H:$H,"Service hours: Overtime hours paid at punitive rates",'Annual Totals'!$O:$O,"BNSF") -> 323302 | G77: =SUMIFS('Annual Totals'!$S:$S,'Annual Totals'!$R:$R,Compilation!$A77,'Annual Totals'!$H:$H,"Service hours: Hours paid but not worked",'Annual Totals'!$O:$O,"BNSF") -> 1029018 | H77: =E77+F77+G77 -> 5206999
A79: CSX
A81: 100 | B81: Executives, Officials, & Staff Assistants | C81: =SUMIFS('Annual Totals'!$S:$S,'Annual Totals'!$R:$R,Compilation!$A81,'Annual Totals'!$H:$H,"Average number of employees",'Annual Totals'!$O:$O,"CSXT") -> 890.25 | D81: =SUMIFS('Annual Totals'!$S:$S,'Annual Totals'!$R:$R,Compilation!$A81,'Annual Totals'!$H:$H,"Average number of employees who received pay during period",'Annual Totals'!$O:$O,"CSXT") -> 895.75 | E81: =SUMIFS('Annual Totals'!$S:$S,'Annual Totals'!$R:$R,Compilation!$A81,'Annual Totals'!$H:$H,"Service hours: Straight time worked and paid for",'Annual Totals'!$O:$O,"CSXT") -> 1859448 | F81: =SUMIFS('Annual Totals'!$S:$S,'Annual Totals'!$R:$R,Compilation!$A81,'Annual Totals'!$H:$H,"Service hours: Overtime hours paid at punitive rates",'Annual Totals'!$O:$O,"CSXT") -> 0 | G81: =SUMIFS('Annual Totals'!$S:$S,'Annual Totals'!$R:$R,Compilation!$A81,'Annual Totals'!$H:$H,"Service hours: Hours paid but not worked",'Annual Totals'!$O:$O,"CSXT") -> 0 | H81: =E81+F81+G81 -> 1859448
A82: 200 | B82: Professional & Administrative | C82: =SUMIFS('Annual Totals'!$S:$S,'Annual Totals'!$R:$R,Compilation!$A82,'Annual Totals'!$H:$H,"Average number of employees",'Annual Totals'!$O:$O,"CSXT") -> 1780.25 | D82: =SUMIFS('Annual Totals'!$S:$S,'Annual Totals'!$R:$R,Compilation!$A82,'Annual Totals'!$H:$H,"Average number of employees who received pay during period",'Annual Totals'!$O:$O,"CSXT") -> 1781.5 | E82: =SUMIFS('Annual Totals'!$S:$S,'Annual Totals'!$R:$R,Compilation!$A82,'Annual Totals'!$H:$H,"Service hours: Straight time worked and paid for",'Annual Totals'!$O:$O,"CSXT") -> 3436414 | F82: =SUMIFS('Annual Totals'!$S:$S,'Annual Totals'!$R:$R,Compilation!$A82,'Annual Totals'!$H:$H,"Service hours: Overtime hours paid at punitive rates",'Annual Totals'!$O:$O,"CSXT") -> 129242 | G82: =SUMIFS('Annual Totals'!$S:$S,'Annual Totals'!$R:$R,Compilation!$A82,'Annual Totals'!$H:$H,"Service hours: Hours paid but not worked",'Annual Totals'!$O:$O,"CSXT") -> 161554 | H82: =E82+F82+G82 -> 3727210
A83: 300 | B83: Maintenance of Way & Structures | C83: =SUMIFS('Annual Totals'!$S:$S,'Annual Totals'!$R:$R,Compilation!$A83,'Annual Totals'!$H:$H,"Average number of employees",'Annual Totals'!$O:$O,"CSXT") -> 5082 | D83: =SUMIFS('Annual Totals'!$S:$S,'Annual Totals'!$R:$R,Compilation!$A83,'Annual Totals'!$H:$H,"Average number of employees who received pay during period",'Annual Totals'!$O:$O,"CSXT") -> 5200 | E83: =SUMIFS('Annual Totals'!$S:$S,'Annual Totals'!$R:$R,Compilation!$A83,'Annual Totals'!$H:$H,"Service hours: Straight time worked and paid for",'Annual Totals'!$O:$O,"CSXT") -> 9039986 | F83: =SUMIFS('Annual Totals'!$S:$S,'Annual Totals'!$R:$R,Compilation!$A83,'Annual Totals'!$H:$H,"Service hours: Overtime hours paid at punitive rates",'Annual Totals'!$O:$O,"CSXT") -> 1640673 | G83: =SUMIFS('Annual Totals'!$S:$S,'Annual Totals'!$R:$R,Compilation!$A83,'Annual Totals'!$H:$H,"Service hours: Hours paid but not worked",'Annual Totals'!$O:$O,"CSXT") -> 1779000 | H83: =E83+F83+G83 -> 12459659
A84: 400 | B84: Maintenance of Equipment & Stores | C84: =SUMIFS('Annual Totals'!$S:$S,'Annual Totals'!$R:$R,Compilation!$A84,'Annual Totals'!$H:$H,"Average number of employees",'Annual Totals'!$O:$O,"CSXT") -> 2750.5 | D84: =SUMIFS('Annual Totals'!$S:$S,'Annual Totals'!$R:$R,Compilation!$A84,'Annual Totals'!$H:$H,"Average number of employees who received pay during period",'Annual Totals'!$O:$O,"CSXT") -> 2813.5 | E84: =SUMIFS('Annual Totals'!$S:$S,'Annual Totals'!$R:$R,Compilation!$A84,'Annual Totals'!$H:$H,"Service hours: Straight time worked and paid for",'Annual Totals'!$O:$O,"CSXT") -> 4996114 | F84: =SUMIFS('Annual Totals'!$S:$S,'Annual Totals'!$R:$R,Compilation!$A84,'Annual Totals'!$H:$H,"Service hours: Overtime hours paid at punitive rates",'Annual Totals'!$O:$O,"CSXT") -> 586089 | G84: =SUMIFS('Annual Totals'!$S:$S,'Annual Totals'!$R:$R,Compilation!$A84,'Annual Totals'!$H:$H,"Service hours: Hours paid but not worked",'Annual Totals'!$O:$O,"CSXT") -> 781987 | H84: =E84+F84+G84 -> 6364190
A85: 500 | B85: Transportation (Other than Train & Engine) | C85: =SUMIFS('Annual Totals'!$S:$S,'Annual Totals'!$R:$R,Compilation!$A85,'Annual Totals'!$H:$H,"Average number of employees",'Annual Totals'!$O:$O,"CSXT") -> 876.25 | D85: =SUMIFS('Annual Totals'!$S:$S,'Annual Totals'!$R:$R,Compilation!$A85,'Annual Totals'!$H:$H,"Average number of employees who received pay during period",'Annual Totals'!$O:$O,"CSXT") -> 885.5 | E85: =SUMIFS('Annual Totals'!$S:$S,'Annual Totals'!$R:$R,Compilation!$A85,'Annual Totals'!$H:$H,"Service hours: Straight time worked and paid for",'Annual Totals'!$O:$O,"CSXT") -> 1400497 | F85: =SUMIFS('Annual Totals'!$S:$S,'Annual Totals'!$R:$R,Compilation!$A85,'Annual Totals'!$H:$H,"Service hours: Overtime hours paid at punitive rates",'Annual Totals'!$O:$O,"CSXT") -> 172745 | G85: =SUMIFS('Annual Totals'!$S:$S,'Annual Totals'!$R:$R,Compilation!$A85,'Annual Totals'!$H:$H,"Service hours: Hours paid but not worked",'Annual Totals'!$O:$O,"CSXT") -> 451316 | H85: =E85+F85+G85 -> 2024558
A87: CN/Grand Trunk Western (All CN US Operations)
A89: 100 | B89: Executives, Officials, & Staff Assistants | C89: =SUMIFS('Annual Totals'!$S:$S,'Annual Totals'!$R:$R,Compilation!$A89,'Annual Totals'!$H:$H,"Average number of employees",'Annual Totals'!$O:$O,"GTC") -> 307.5 | D89: =SUMIFS('Annual Totals'!$S:$S,'Annual Totals'!$R:$R,Compilation!$A89,'Annual Totals'!$H:$H,"Average number of employees who received pay during period",'Annual Totals'!$O:$O,"GTC") -> 231 | E89: =SUMIFS('Annual Totals'!$S:$S,'Annual Totals'!$R:$R,Compilation!$A89,'Annual Totals'!$H:$H,"Service hours: Straight time worked and paid for",'Annual Totals'!$O:$O,"GTC") -> 474317 | F89: =SUMIFS('Annual Totals'!$S:$S,'Annual Totals'!$R:$R,Compilation!$A89,'Annual Totals'!$H:$H,"Service hours: Overtime hours paid at punitive rates",'Annual Totals'!$O:$O,"GTC") -> 0 | G89: =SUMIFS('Annual Totals'!$S:$S,'Annual Totals'!$R:$R,Compilation!$A89,'Annual Totals'!$H:$H,"Service hours: Hours paid but not worked",'Annual Totals'!$O:$O,"GTC") -> 110 | H89: =E89+F89+G89 -> 474427
A90: 200 | B90: Professional & Administrative | C90: =SUMIFS('Annual Totals'!$S:$S,'Annual Totals'!$R:$R,Compilation!$A90,'Annual Totals'!$H:$H,"Average number of employees",'Annual Totals'!$O:$O,"GTC") -> 581.25 | D90: =SUMIFS('Annual Totals'!$S:$S,'Annual Totals'!$R:$R,Compilation!$A90,'Annual Totals'!$H:$H,"Average number of employees who received pay during period",'Annual Totals'!$O:$O,"GTC") -> 724.5 | E90: =SUMIFS('Annual Totals'!$S:$S,'Annual Totals'!$R:$R,Compilation!$A90,'Annual Totals'!$H:$H,"Service hours: Straight time worked and paid for",'Annual Totals'!$O:$O,"GTC") -> 1459582 | F90: =SUMIFS('Annual Totals'!$S:$S,'Annual Totals'!$R:$R,Compilation!$A90,'Annual Totals'!$H:$H,"Service hours: Overtime hours paid at punitive rates",'Annual Totals'!$O:$O,"GTC") -> 10894 | G90: =SUMIFS('Annual Totals'!$S:$S,'Annual Totals'!$R:$R,Compilation!$A90,'Annual Totals'!$H:$H,"Service hours: Hours paid but not worked",'Annual Totals'!$O:$O,"GTC") -> 30170 | H90: =E90+F90+G90 -> 1500646
A91: 300 | B91: Maintenance of Way & Structures | C91: =SUMIFS('Annual Totals'!$S:$S,'Annual Totals'!$R:$R,Compilation!$A91,'Annual Totals'!$H:$H,"Average number of employees",'Annual Totals'!$O:$O,"GTC") -> 1952 | D91: =SUMIFS('Annual Totals'!$S:$S,'Annual Totals'!$R:$R,Compilation!$A91,'Annual Totals'!$H:$H,"Average number of employees who received pay during period",'Annual Totals'!$O:$O,"GTC") -> 1870.5 | E91: =SUMIFS('Annual Totals'!$S:$S,'Annual Totals'!$R:$R,Compilation!$A91,'Annual Totals'!$H:$H,"Service hours: Straight time worked and paid for",'Annual Totals'!$O:$O,"GTC") -> 3532625 | F91: =SUMIFS('Annual Totals'!$S:$S,'Annual Totals'!$R:$R,Compilation!$A91,'Annual Totals'!$H:$H,"Service hours: Overtime hours paid at punitive rates",'Annual Totals'!$O:$O,"GTC") -> 438391 | G91: =SUMIFS('Annual Totals'!$S:$S,'Annual Totals'!$R:$R,Compilation!$A91,'Annual Totals'!$H:$H,"Service hours: Hours paid but not worked",'Annual Totals'!$O:$O,"GTC") -> 571358 | H91: =E91+F91+G91 -> 4542374
A92: 400 | B92: Maintenance of Equipment & Stores | C92: =SUMIFS('Annual Totals'!$S:$S,'Annual Totals'!$R:$R,Compilation!$A92,'Annual Totals'!$H:$H,"Average number of employees",'Annual Totals'!$O:$O,"GTC") -> 906.75 | D92: =SUMIFS('Annual Totals'!$S:$S,'Annual Totals'!$R:$R,Compilation!$A92,'Annual Totals'!$H:$H,"Average number of employees who received pay during period",'Annual Totals'!$O:$O,"GTC") -> 941.25 | E92: =SUMIFS('Annual Totals'!$S:$S,'Annual Totals'!$R:$R,Compilation!$A92,'Annual Totals'!$H:$H,"Service hours: Straight time worked and paid for",'Annual Totals'!$O:$O,"GTC") -> 1673664 | F92: =SUMIFS('Annual Totals'!$S:$S,'Annual Totals'!$R:$R,Compilation!$A92,'Annual Totals'!$H:$H,"Service hours: Overtime hours paid at punitive rates",'Annual Totals'!$O:$O,"GTC") -> 169836 | G92: =SUMIFS('Annual Totals'!$S:$S,'Annual Totals'!$R:$R,Compilation!$A92,'Annual Totals'!$H:$H,"Service hours: Hours paid but not worked",'Annual Totals'!$O:$O,"GTC") -> 238323 | H92: =E92+F92+G92 -> 2081823
A93: 500 | B93: Transportation (Other than Train & Engine) | C93: =SUMIFS('Annual Totals'!$S:$S,'Annual Totals'!$R:$R,Compilation!$A93,'Annual Totals'!$H:$H,"Average number of employees",'Annual Totals'!$O:$O,"GTC") -> 289 | D93: =SUMIFS('Annual Totals'!$S:$S,'Annual Totals'!$R:$R,Compilation!$A93,'Annual Totals'!$H:$H,"Average number of employees who received pay during period",'Annual Totals'!$O:$O,"GTC") -> 296 | E93: =SUMIFS('Annual Totals'!$S:$S,'Annual Totals'!$R:$R,Compilation!$A93,'Annual Totals'!$H:$H,"Service hours: Straight time worked and paid for",'Annual Totals'!$O:$O,"GTC") -> 494129 | F93: =SUMIFS('Annual Totals'!$S:$S,'Annual Totals'!$R:$R,Compilation!$A93,'Annual Totals'!$H:$H,"Service hours: Overtime hours paid at punitive rates",'Annual Totals'!$O:$O,"GTC") -> 45997 | G93: =SUMIFS('Annual Totals'!$S:$S,'Annual Totals'!$R:$R,Compilation!$A93,'Annual Totals'!$H:$H,"Service hours: Hours paid but not worked",'Annual Totals'!$O:$O,"GTC") -> 99358 | H93: =E93+F93+G93 -> 639484
A95: Source: Annual Wage Forms A and B submitted by Class I Railroads.
A96: These reports have not been verified by the Surface Transportation Board.
A98: Page 4 of 13
F99: =F60 -> Annual Wage Forms A and B - 2025
A100: SURFACE TRANSPORTATION BOARD
A101: OFFICE OF ECONOMICS
A102: WAGE STATISTICS OF CLASS I RAILROADS IN THE UNITED STATES
E104: ............................................Service Hours.....................................................
D106: Av No. of | E106: Time worked | F106: Overtime | G106: Time paid | H106: Total
C107: Av No. of | D107: Employees | E107: and paid for | F107: paid for at | G107: for but | H107: time
A108: Group | B108: Reporting Group | C108: Employees | D108: Paid During | E108: straight | F108: punitive | G108: not | H108: paid
A109: No. | C109: Mid Month | D109: Month | E109: time rates | F109: rates | G109: worked | H109: for
A110: Norfolk Southern
A112: 100 | B112: Executives, Officials, & Staff Assistants | C112: =SUMIFS('Annual Totals'!$S:$S,'Annual Totals'!$R:$R,Compilation!$A112,'Annual Totals'!$H:$H,"Average number of employees",'Annual Totals'!$O:$O,"NS") -> 1770.75 | D112: =SUMIFS('Annual Totals'!$S:$S,'Annual Totals'!$R:$R,Compilation!$A112,'Annual Totals'!$H:$H,"Average number of employees who received pay during period",'Annual Totals'!$O:$O,"NS") -> 1778.75 | E112: =SUMIFS('Annual Totals'!$S:$S,'Annual Totals'!$R:$R,Compilation!$A112,'Annual Totals'!$H:$H,"Service hours: Straight time worked and paid for",'Annual Totals'!$O:$O,"NS") -> 3739552 | F112: =SUMIFS('Annual Totals'!$S:$S,'Annual Totals'!$R:$R,Compilation!$A112,'Annual Totals'!$H:$H,"Service hours: Overtime hours paid at punitive rates",'Annual Totals'!$O:$O,"NS") -> 0 | G112: =SUMIFS('Annual Totals'!$S:$S,'Annual Totals'!$R:$R,Compilation!$A112,'Annual Totals'!$H:$H,"Service hours: Hours paid but not worked",'Annual Totals'!$O:$O,"NS") -> 0 | H112: =E112+F112+G112 -> 3739552
A113: 200 | B113: Professional & Administrative | C113: =SUMIFS('Annual Totals'!$S:$S,'Annual Totals'!$R:$R,Compilation!$A113,'Annual Totals'!$H:$H,"Average number of employees",'Annual Totals'!$O:$O,"NS") -> 1668 | D113: =SUMIFS('Annual Totals'!$S:$S,'Annual Totals'!$R:$R,Compilation!$A113,'Annual Totals'!$H:$H,"Average number of employees who received pay during period",'Annual Totals'!$O:$O,"NS") -> 1674.75 | E113: =SUMIFS('Annual Totals'!$S:$S,'Annual Totals'!$R:$R,Compilation!$A113,'Annual Totals'!$H:$H,"Service hours: Straight time worked and paid for",'Annual Totals'!$O:$O,"NS") -> 3423133 | F113: =SUMIFS('Annual Totals'!$S:$S,'Annual Totals'!$R:$R,Compilation!$A113,'Annual Totals'!$H:$H,"Service hours: Overtime hours paid at punitive rates",'Annual Totals'!$O:$O,"NS") -> 26468 | G113: =SUMIFS('Annual Totals'!$S:$S,'Annual Totals'!$R:$R,Compilation!$A113,'Annual Totals'!$H:$H,"Service hours: Hours paid but not worked",'Annual Totals'!$O:$O,"NS") -> 98164 | H113: =E113+F113+G113 -> 3547765
A114: 300 | B114: Maintenance of Way & Structures | C114: =SUMIFS('Annual Totals'!$S:$S,'Annual Totals'!$R:$R,Compilation!$A114,'Annual Totals'!$H:$H,"Average number of employees",'Annual Totals'!$O:$O,"NS") -> 4516.75 | D114: =SUMIFS('Annual Totals'!$S:$S,'Annual Totals'!$R:$R,Compilation!$A114,'Annual Totals'!$H:$H,"Average number of employees who received pay during period",'Annual Totals'!$O:$O,"NS") -> 4551.75 | E114: =SUMIFS('Annual Totals'!$S:$S,'Annual Totals'!$R:$R,Compilation!$A114,'Annual Totals'!$H:$H,"Service hours: Straight time worked and paid for",'Annual Totals'!$O:$O,"NS") -> 8191639 | F114: =SUMIFS('Annual Totals'!$S:$S,'Annual Totals'!$R:$R,Compilation!$A114,'Annual Totals'!$H:$H,"Service hours: Overtime hours paid at punitive rates",'Annual Totals'!$O:$O,"NS") -> 1076385 | G114: =SUMIFS('Annual Totals'!$S:$S,'Annual Totals'!$R:$R,Compilation!$A114,'Annual Totals'!$H:$H,"Service hours: Hours paid but not worked",'Annual Totals'!$O:$O,"NS") -> 1339840 | H114: =E114+F114+G114 -> 10607864
A115: 400 | B115: Maintenance of Equipment & Stores | C115: =SUMIFS('Annual Totals'!$S:$S,'Annual Totals'!$R:$R,Compilation!$A115,'Annual Totals'!$H:$H,"Average number of employees",'Annual Totals'!$O:$O,"NS") -> 2785.25 | D115: =SUMIFS('Annual Totals'!$S:$S,'Annual Totals'!$R:$R,Compilation!$A115,'Annual Totals'!$H:$H,"Average number of employees who received pay during period",'Annual Totals'!$O:$O,"NS") -> 2823 | E115: =SUMIFS('Annual Totals'!$S:$S,'Annual Totals'!$R:$R,Compilation!$A115,'Annual Totals'!$H:$H,"Service hours: Straight time worked and paid for",'Annual Totals'!$O:$O,"NS") -> 5160201 | F115: =SUMIFS('Annual Totals'!$S:$S,'Annual Totals'!$R:$R,Compilation!$A115,'Annual Totals'!$H:$H,"Service hours: Overtime hours paid at punitive rates",'Annual Totals'!$O:$O,"NS") -> 400749 | G115: =SUMIFS('Annual Totals'!$S:$S,'Annual Totals'!$R:$R,Compilation!$A115,'Annual Totals'!$H:$H,"Service hours: Hours paid but not worked",'Annual Totals'!$O:$O,"NS") -> 794583 | H115: =E115+F115+G115 -> 6355533
A116: 500 | B116: Transportation (Other than Train & Engine) | C116: =SUMIFS('Annual Totals'!$S:$S,'Annual Totals'!$R:$R,Compilation!$A116,'Annual Totals'!$H:$H,"Average number of employees",'Annual Totals'!$O:$O,"NS") -> 798.25 | D116: =SUMIFS('Annual Totals'!$S:$S,'Annual Totals'!$R:$R,Compilation!$A116,'Annual Totals'!$H:$H,"Average number of employees who received pay during period",'Annual Totals'!$O:$O,"NS") -> 802.75 | E116: =SUMIFS('Annual Totals'!$S:$S,'Annual Totals'!$R:$R,Compilation!$A116,'Annual Totals'!$H:$H,"Service hours: Straight time worked and paid for",'Annual Totals'!$O:$O,"NS") -> 1386628 | F116: =SUMIFS('Annual Totals'!$S:$S,'Annual Totals'!$R:$R,Compilation!$A116,'Annual Totals'!$H:$H,"Service hours: Overtime hours paid at punitive rates",'Annual Totals'!$O:$O,"NS") -> 104165 | G116: =SUMIFS('Annual Totals'!$S:$S,'Annual Totals'!$R:$R,Compilation!$A116,'Annual Totals'!$H:$H,"Service hours: Hours paid but not worked",'Annual Totals'!$O:$O,"NS") -> 294826 | H116: =E116+F116+G116 -> 1785619
A118: CPKC
A120: 100 | B120: Executives, Officials, & Staff Assistants | C120: =SUMIFS('Annual Totals'!$S:$S,'Annual Totals'!$R:$R,Compilation!$A120,'Annual Totals'!$H:$H,"Average number of employees",'Annual Totals'!$O:$O,"CPKC") -> 672.25 | D120: =SUMIFS('Annual Totals'!$S:$S,'Annual Totals'!$R:$R,Compilation!$A120,'Annual Totals'!$H:$H,"Average number of employees who received pay during period",'Annual Totals'!$O:$O,"CPKC") -> 677.75 | E120: =SUMIFS('Annual Totals'!$S:$S,'Annual Totals'!$R:$R,Compilation!$A120,'Annual Totals'!$H:$H,"Service hours: Straight time worked and paid for",'Annual Totals'!$O:$O,"CPKC") -> 1361942 | F120: =SUMIFS('Annual Totals'!$S:$S,'Annual Totals'!$R:$R,Compilation!$A120,'Annual Totals'!$H:$H,"Service hours: Overtime hours paid at punitive rates",'Annual Totals'!$O:$O,"CPKC") -> 0 | G120: =SUMIFS('Annual Totals'!$S:$S,'Annual Totals'!$R:$R,Compilation!$A120,'Annual Totals'!$H:$H,"Service hours: Hours paid but not worked",'Annual Totals'!$O:$O,"CPKC") -> 132557 | H120: =E120+F120+G120 -> 1494499
A121: 200 | B121: Professional & Administrative | C121: =SUMIFS('Annual Totals'!$S:$S,'Annual Totals'!$R:$R,Compilation!$A121,'Annual Totals'!$H:$H,"Average number of employees",'Annual Totals'!$O:$O,"CPKC") -> 565.5 | D121: =SUMIFS('Annual Totals'!$S:$S,'Annual Totals'!$R:$R,Compilation!$A121,'Annual Totals'!$H:$H,"Average number of employees who received pay during period",'Annual Totals'!$O:$O,"CPKC") -> 573.75 | E121: =SUMIFS('Annual Totals'!$S:$S,'Annual Totals'!$R:$R,Compilation!$A121,'Annual Totals'!$H:$H,"Service hours: Straight time worked and paid for",'Annual Totals'!$O:$O,"CPKC") -> 1160728 | F121: =SUMIFS('Annual Totals'!$S:$S,'Annual Totals'!$R:$R,Compilation!$A121,'Annual Totals'!$H:$H,"Service hours: Overtime hours paid at punitive rates",'Annual Totals'!$O:$O,"CPKC") -> 23514 | G121: =SUMIFS('Annual Totals'!$S:$S,'Annual Totals'!$R:$R,Compilation!$A121,'Annual Totals'!$H:$H,"Service hours: Hours paid but not worked",'Annual Totals'!$O:$O,"CPKC") -> 130936 | H121: =E121+F121+G121 -> 1315178
A122: 300 | B122: Maintenance of Way & Structures | C122: =SUMIFS('Annual Totals'!$S:$S,'Annual Totals'!$R:$R,Compilation!$A122,'Annual Totals'!$H:$H,"Average number of employees",'Annual Totals'!$O:$O,"CPKC") -> 1273 | D122: =SUMIFS('Annual Totals'!$S:$S,'Annual Totals'!$R:$R,Compilation!$A122,'Annual Totals'!$H:$H,"Average number of employees who received pay during period",'Annual Totals'!$O:$O,"CPKC") -> 1295.75 | E122: =SUMIFS('Annual Totals'!$S:$S,'Annual Totals'!$R:$R,Compilation!$A122,'Annual Totals'!$H:$H,"Service hours: Straight time worked and paid for",'Annual Totals'!$O:$O,"CPKC") -> 2341667 | F122: =SUMIFS('Annual Totals'!$S:$S,'Annual Totals'!$R:$R,Compilation!$A122,'Annual Totals'!$H:$H,"Service hours: Overtime hours paid at punitive rates",'Annual Totals'!$O:$O,"CPKC") -> 271380 | G122: =SUMIFS('Annual Totals'!$S:$S,'Annual Totals'!$R:$R,Compilation!$A122,'Annual Totals'!$H:$H,"Service hours: Hours paid but not worked",'Annual Totals'!$O:$O,"CPKC") -> 472695 | H122: =E122+F122+G122 -> 3085742
A123: 400 | B123: Maintenance of Equipment & Stores | C123: =SUMIFS('Annual Totals'!$S:$S,'Annual Totals'!$R:$R,Compilation!$A123,'Annual Totals'!$H:$H,"Average number of employees",'Annual Totals'!$O:$O,"CPKC") -> 595.25 | D123: =SUMIFS('Annual Totals'!$S:$S,'Annual Totals'!$R:$R,Compilation!$A123,'Annual Totals'!$H:$H,"Average number of employees who received pay during period",'Annual Totals'!$O:$O,"CPKC") -> 602 | E123: =SUMIFS('Annual Totals'!$S:$S,'Annual Totals'!$R:$R,Compilation!$A123,'Annual Totals'!$H:$H,"Service hours: Straight time worked and paid for",'Annual Totals'!$O:$O,"CPKC") -> 1100854 | F123: =SUMIFS('Annual Totals'!$S:$S,'Annual Totals'!$R:$R,Compilation!$A123,'Annual Totals'!$H:$H,"Service hours: Overtime hours paid at punitive rates",'Annual Totals'!$O:$O,"CPKC") -> 106185 | G123: =SUMIFS('Annual Totals'!$S:$S,'Annual Totals'!$R:$R,Compilation!$A123,'Annual Totals'!$H:$H,"Service hours: Hours paid but not worked",'Annual Totals'!$O:$O,"CPKC") -> 367395 | H123: =E123+F123+G123 -> 1574434
A124: 500 | B124: Transportation (Other than Train & Engine) | C124: =SUMIFS('Annual Totals'!$S:$S,'Annual Totals'!$R:$R,Compilation!$A124,'Annual Totals'!$H:$H,"Average number of employees",'Annual Totals'!$O:$O,"CPKC") -> 177.25 | D124: =SUMIFS('Annual Totals'!$S:$S,'Annual Totals'!$R:$R,Compilation!$A124,'Annual Totals'!$H:$H,"Average number of employees who received pay during period",'Annual Totals'!$O:$O,"CPKC") -> 180.5 | E124: =SUMIFS('Annual Totals'!$S:$S,'Annual Totals'!$R:$R,Compilation!$A124,'Annual Totals'!$H:$H,"Service hours: Straight time worked and paid for",'Annual Totals'!$O:$O,"CPKC") -> 325626 | F124: =SUMIFS('Annual Totals'!$S:$S,'Annual Totals'!$R:$R,Compilation!$A124,'Annual Totals'!$H:$H,"Service hours: Overtime hours paid at punitive rates",'Annual Totals'!$O:$O,"CPKC") -> 26095 | G124: =SUMIFS('Annual Totals'!$S:$S,'Annual Totals'!$R:$R,Compilation!$A124,'Annual Totals'!$H:$H,"Service hours: Hours paid but not worked",'Annual Totals'!$O:$O,"CPKC") -> 42256 | H124: =E124+F124+G124 -> 393977
A126: Source: Annual Wage Forms A and B submitted by Class I Railroads.
A127: These reports have not been verified by the Surface Transportation Board.
A129: Page 5 of 13
F130: =F60 -> Annual Wage Forms A and B - 2025
...
